BEGIN:VCALENDAR
VERSION:2.0
PRODID:-//Bay County Audubon Society - ECPv6.15.20//NONSGML v1.0//EN
CALSCALE:GREGORIAN
METHOD:PUBLISH
X-WR-CALNAME:Bay County Audubon Society
X-ORIGINAL-URL:https://baycountyaudubon.org
X-WR-CALDESC:Events for Bay County Audubon Society
REFRESH-INTERVAL;VALUE=DURATION:PT1H
X-Robots-Tag:noindex
X-PUBLISHED-TTL:PT1H
BEGIN:VTIMEZONE
TZID:UTC
BEGIN:STANDARD
TZOFFSETFROM:+0000
TZOFFSETTO:+0000
TZNAME:UTC
DTSTART:20220101T000000
END:STANDARD
END:VTIMEZONE
BEGIN:VEVENT
DTSTART;TZID=UTC:20231127T190000
DTEND;TZID=UTC:20231127T203000
DTSTAMP:20260422T230238
CREATED:20231107T143713Z
LAST-MODIFIED:20231107T143744Z
UID:446-1701111600-1701117000@baycountyaudubon.org
SUMMARY:Board Meeting
DESCRIPTION:
URL:https://baycountyaudubon.org/upcoming-event/board-meeting/
END:VEVENT
BEGIN:VEVENT
DTSTART;TZID=UTC:20231125T060000
DTEND;TZID=UTC:20231125T100000
DTSTAMP:20260422T230238
CREATED:20231107T143614Z
LAST-MODIFIED:20231107T143614Z
UID:443-1700892000-1700906400@baycountyaudubon.org
SUMMARY:Camp Helen Monthly Bird Survey
DESCRIPTION:
URL:https://baycountyaudubon.org/upcoming-event/camp-helen-monthly-bird-survey/
LOCATION:Camp Helen State Park\, 23937 Panama City Beach Parkway\, Panama City beach\, Florida\, 32413
END:VEVENT
BEGIN:VEVENT
DTSTART;TZID=UTC:20231118T081500
DTEND;TZID=UTC:20231118T170000
DTSTAMP:20260422T230238
CREATED:20231107T155004Z
LAST-MODIFIED:20231107T155228Z
UID:488-1700295300-1700326800@baycountyaudubon.org
SUMMARY:Econfina Creek trail hike
DESCRIPTION:Econfina Creek trail hike from Pitt Spring to Sylvan and Williford Springs. 8:15 a.m. central time at Pitt Spring Rec. Area on Hwy 20. Combined trip with Sweetbay Florida Native Plant Society. Https://sweetbay.fnpschapters.org. Ron Houser leading.
URL:https://baycountyaudubon.org/upcoming-event/econfina-creek-trail-hike/
CATEGORIES:Field Trips
ATTACH;FMTTYPE=image/jpeg:https://baycountyaudubon.org/wp-content/uploads/2023/11/P1050627.jpg
END:VEVENT
BEGIN:VEVENT
DTSTART;TZID=UTC:20231113T183000
DTEND;TZID=UTC:20231113T200000
DTSTAMP:20260422T230238
CREATED:20231107T150852Z
LAST-MODIFIED:20231107T160345Z
UID:459-1699900200-1699905600@baycountyaudubon.org
SUMMARY:E.O. Wilson Biophilia Center
DESCRIPTION:Dalton Allen\, presenter\, its species protection\, evolving mission: public programs & education outreach–it “ant” what you think!
URL:https://baycountyaudubon.org/upcoming-event/e-o-wilson-biophilia-center-its-species-protection-evolving-mission-public-programs-education-outreach-it-ant-what-you-think/
LOCATION:St Andrews Episcopal Church Parish Hall\, 1608 Baker Court\, Panama City\, FL\, 32401\, United States
CATEGORIES:Programs
ATTACH;FMTTYPE=image/jpeg:https://baycountyaudubon.org/wp-content/uploads/2023/10/AdobeStock_493813712-scaled.jpeg
END:VEVENT
BEGIN:VEVENT
DTSTART;TZID=UTC:20231113T183000
DTEND;TZID=UTC:20231113T200000
DTSTAMP:20260422T230238
CREATED:20231107T143348Z
LAST-MODIFIED:20231107T143415Z
UID:441-1699900200-1699905600@baycountyaudubon.org
SUMMARY:BCAS Monthly Membership Meeting
DESCRIPTION:
URL:https://baycountyaudubon.org/upcoming-event/bcas-monthly-membership-meeting/
END:VEVENT
BEGIN:VEVENT
DTSTART;TZID=UTC:20231009T183000
DTEND;TZID=UTC:20231009T200000
DTSTAMP:20260422T230238
CREATED:20231107T150752Z
LAST-MODIFIED:20231107T150752Z
UID:457-1696876200-1696881600@baycountyaudubon.org
SUMMARY:Birding with Noah Stryker in Utah and a quick stop at High Island.
DESCRIPTION:Donna Cronwell\, presenter
URL:https://baycountyaudubon.org/upcoming-event/birding-with-noah-stryker-in-utah-and-a-quick-stop-at-high-island/
CATEGORIES:Programs
END:VEVENT
END:VCALENDAR