BEGIN:VCALENDAR
VERSION:2.0
PRODID:-//Bay County Audubon Society - ECPv6.15.20//NONSGML v1.0//EN
CALSCALE:GREGORIAN
METHOD:PUBLISH
X-WR-CALNAME:Bay County Audubon Society
X-ORIGINAL-URL:https://baycountyaudubon.org
X-WR-CALDESC:Events for Bay County Audubon Society
REFRESH-INTERVAL;VALUE=DURATION:PT1H
X-Robots-Tag:noindex
X-PUBLISHED-TTL:PT1H
BEGIN:VTIMEZONE
TZID:UTC
BEGIN:STANDARD
TZOFFSETFROM:+0000
TZOFFSETTO:+0000
TZNAME:UTC
DTSTART:20240101T000000
END:STANDARD
END:VTIMEZONE
BEGIN:VEVENT
DTSTART;TZID=UTC:20251110T183000
DTEND;TZID=UTC:20251110T200000
DTSTAMP:20260422T120618
CREATED:20251028T033156Z
LAST-MODIFIED:20251028T233526Z
UID:2188-1762799400-1762804800@baycountyaudubon.org
SUMMARY:November 10th Membership Meeting
DESCRIPTION:Attracting Eastern Bluebirds to Your Yard\nPam Overmyer\, current President of the Florida Bluebird Society and Past President of BCAS\, will be presenting a talk on “Attracting Eastern Bluebirds to Your Yard” and updating us on her bluebird trail at a local park which she has monitored for more than 10 years. Pam is a great resource for all things bluebird!  The meeting is open to the public and we will provide snacks and drinks.
URL:https://baycountyaudubon.org/upcoming-event/november-10th-membership-meeting/
LOCATION:St Andrews Episcopal Church Parish Hall\, 1608 Baker Court\, Panama City\, FL\, 32401\, United States
CATEGORIES:Field Trips,Monthly Meeting,Programs
ORGANIZER;CN="Brian Dusseault":MAILTO:bdusseault@aol.com
END:VEVENT
END:VCALENDAR