BEGIN:VCALENDAR
VERSION:2.0
PRODID:-//Bay County Audubon Society - ECPv6.15.20//NONSGML v1.0//EN
CALSCALE:GREGORIAN
METHOD:PUBLISH
X-WR-CALNAME:Bay County Audubon Society
X-ORIGINAL-URL:https://baycountyaudubon.org
X-WR-CALDESC:Events for Bay County Audubon Society
REFRESH-INTERVAL;VALUE=DURATION:PT1H
X-Robots-Tag:noindex
X-PUBLISHED-TTL:PT1H
BEGIN:VTIMEZONE
TZID:UTC
BEGIN:STANDARD
TZOFFSETFROM:+0000
TZOFFSETTO:+0000
TZNAME:UTC
DTSTART:20220101T000000
END:STANDARD
END:VTIMEZONE
BEGIN:VEVENT
DTSTART;VALUE=DATE:20231216
DTEND;VALUE=DATE:20231217
DTSTAMP:20260426T003535
CREATED:20231107T160016Z
LAST-MODIFIED:20231107T160016Z
UID:499-1702684800-1702771199@baycountyaudubon.org
SUMMARY:Christmas Bird Count
DESCRIPTION:Christmas Bird Count; organized by Raya Pruner.
URL:https://baycountyaudubon.org/upcoming-event/christmas-bird-count/
CATEGORIES:Field Trips
ATTACH;FMTTYPE=image/jpeg:https://baycountyaudubon.org/wp-content/uploads/2023/11/Audubon_Is_2666_pelicans.jpg
END:VEVENT
END:VCALENDAR