BEGIN:VCALENDAR
VERSION:2.0
PRODID:-//Bay County Audubon Society - ECPv6.15.20//NONSGML v1.0//EN
CALSCALE:GREGORIAN
METHOD:PUBLISH
X-WR-CALNAME:Bay County Audubon Society
X-ORIGINAL-URL:https://baycountyaudubon.org
X-WR-CALDESC:Events for Bay County Audubon Society
REFRESH-INTERVAL;VALUE=DURATION:PT1H
X-Robots-Tag:noindex
X-PUBLISHED-TTL:PT1H
BEGIN:VTIMEZONE
TZID:UTC
BEGIN:STANDARD
TZOFFSETFROM:+0000
TZOFFSETTO:+0000
TZNAME:UTC
DTSTART:20220101T000000
END:STANDARD
END:VTIMEZONE
BEGIN:VEVENT
DTSTART;TZID=UTC:20231209T073000
DTEND;TZID=UTC:20231209T170000
DTSTAMP:20260426T003618
CREATED:20231107T155920Z
LAST-MODIFIED:20231107T155920Z
UID:497-1702107000-1702141200@baycountyaudubon.org
SUMMARY:PCB Conservation Park bird walk
DESCRIPTION:PCB Conservation Park bird walk 7:30 a.m. Leader TBA.
URL:https://baycountyaudubon.org/upcoming-event/pcb-conservation-park-bird-walk/
CATEGORIES:Field Trips
ATTACH;FMTTYPE=image/jpeg:https://baycountyaudubon.org/wp-content/uploads/2023/10/2257e0bd-0095-d789-037c-967a5b0d2d0e.jpg
END:VEVENT
END:VCALENDAR