BEGIN:VCALENDAR
VERSION:2.0
PRODID:-//Bay County Audubon Society - ECPv6.15.20//NONSGML v1.0//EN
CALSCALE:GREGORIAN
METHOD:PUBLISH
X-ORIGINAL-URL:https://baycountyaudubon.org
X-WR-CALDESC:Events for Bay County Audubon Society
REFRESH-INTERVAL;VALUE=DURATION:PT1H
X-Robots-Tag:noindex
X-PUBLISHED-TTL:PT1H
BEGIN:VTIMEZONE
TZID:UTC
BEGIN:STANDARD
TZOFFSETFROM:+0000
TZOFFSETTO:+0000
TZNAME:UTC
DTSTART:20250101T000000
END:STANDARD
END:VTIMEZONE
BEGIN:VEVENT
DTSTART;VALUE=DATE:20260116
DTEND;VALUE=DATE:20260119
DTSTAMP:20260420T082740
CREATED:20231107T160115Z
LAST-MODIFIED:20251223T160322Z
UID:501-1768521600-1768780799@baycountyaudubon.org
SUMMARY:St. Marks National Wildlife Refuge Field  Trip
DESCRIPTION:Pam Overnyer will be leading an overnight field trip to St. Marks National Wildlife Refuge on Jan. 16-18\, 2026. There will be birding stops in Port St. Joe\, Apalachicola\, and Panacea area before arriving at the Magnuson Hotel Wildwood Inn near Crawfordville to spend the night. \nPlease make your own travel or carpool arrangements and hotel reservations for this trip. Hotel Reservations (online or call 855-213-0582.) Hotel link https://www.magnusonhotels.com/…/magnuson-hotel…/ \nItinerary: \nFriday\, Jan. 16\nMeet at 9:00am (Eastern Standard Time) at the downtown Port St. Joe boat ramp at Frank Pate Park near the lighthouse for an hour or so of birding. This is on Fifth Street at the traffic light. We will continue to our destination hotel with several stops along the way. \nNoon\, meet in Apalachicola at Lafayette Park off Hickory St. to view Apalachicola Bay off a pier and have lunch in Apalachicola. (Bring your own or local restaurant.) \nPlanned Birding stops on the way to the hotel:\nEast Point-view some oystercatchers and other birds on the jetties and sandbars.\nMashes Point in Panacea\nBottoms Road just past Panacea (time permitting) \n3:00 pm (EST) Check in at the Wildwood Inn\nYou will need to make your own reservations. The hotel is located about 8 miles east of Panacea on U.S. Hwy 98. The phone number is 855-213-0582. The Seineyard restaurant located adjacent to the hotel and the hotel serves a free continental breakfast. There are several other dining options near the hotel. There is a campground next to the hotel for RVs. Tent camping is available at Newport Campground across from entrance to the refuge. \nSaturday\, Jan. 17\n7:00 am EST Meet Pam in the hotel lobby for breakfast. \n8:00 am EST Leave for St. Marks NWR It’s a 15-minute drive from there to the refuge to spend several hours birding the impoundments and trails. Be sure to bring snacks and drinks while birding. \nNote: Check out time at the hotel is 11:00 am EST. If you plan to return to Panama City on Saturday you will need to arrange for a late departure or check out of the hotel before leaving for St. Mark’s. \nSunday\, Jan. 18 \nIf you would like to stay one or two nights extra for birding in other nearby locations\, including the Wakulla Springs boat tour on Sunday. You can contact Pam for more information. She will be staying there from Wednesday to Tuesday. Her number is 850-832-5835. Her email is aggie9296@aol.com \nThe trip to St. Mark’s is usually a very productive field trip that we have taken many times over the years. We typically see well over 100 bird species over the two-three days. We hope to see you there!
URL:https://baycountyaudubon.org/upcoming-event/st-marks-nwr-trip/
LOCATION:St. Marks National Wildlife Refuge\, 1255 Lighthouse Road\, St. Marks\, FL\, FL\, 32355\, United States
CATEGORIES:Field Trips
ATTACH;FMTTYPE=image/jpeg:https://baycountyaudubon.org/wp-content/uploads/2023/11/brn_pelican_with_stick_2675_op_800x535.jpg
ORGANIZER;CN="Pam Overmyer":MAILTO:aggie9296@aol.com
END:VEVENT
END:VCALENDAR