BEGIN:VCALENDAR
VERSION:2.0
PRODID:-//Bay County Audubon Society - ECPv6.15.20//NONSGML v1.0//EN
CALSCALE:GREGORIAN
METHOD:PUBLISH
X-ORIGINAL-URL:https://baycountyaudubon.org
X-WR-CALDESC:Events for Bay County Audubon Society
REFRESH-INTERVAL;VALUE=DURATION:PT1H
X-Robots-Tag:noindex
X-PUBLISHED-TTL:PT1H
BEGIN:VTIMEZONE
TZID:UTC
BEGIN:STANDARD
TZOFFSETFROM:+0000
TZOFFSETTO:+0000
TZNAME:UTC
DTSTART:20230101T000000
END:STANDARD
END:VTIMEZONE
BEGIN:VEVENT
DTSTART;TZID=UTC:20240309T083000
DTEND;TZID=UTC:20240309T113000
DTSTAMP:20260425T174152
CREATED:20240304T214015Z
LAST-MODIFIED:20241124T203223Z
UID:1032-1709973000-1709983800@baycountyaudubon.org
SUMMARY:Parker Preserve Work Day
DESCRIPTION:Bring water\, snacks\, and garden tools.
URL:https://baycountyaudubon.org/upcoming-event/parker-preserve-work-day-2/
CATEGORIES:Field Trips
ORGANIZER;CN="Ron Houser":MAILTO:ronhouser84@gmail.com
END:VEVENT
BEGIN:VEVENT
DTSTART;TZID=UTC:20240316T080000
DTEND;TZID=UTC:20240316T170000
DTSTAMP:20260425T174152
CREATED:20231107T162006Z
LAST-MODIFIED:20240217T034951Z
UID:509-1710576000-1710608400@baycountyaudubon.org
SUMMARY:Birding and native plant walk
DESCRIPTION:  \nBirding and native plant walk at Florida Caverns in Marianna\, combined trip with Sweetbay NPS. Ranger Billy Baily leading.
URL:https://baycountyaudubon.org/upcoming-event/birding-and-native-plant-walk/
CATEGORIES:Field Trips
ATTACH;FMTTYPE=image/jpeg:https://baycountyaudubon.org/wp-content/uploads/2023/11/IMG_E3253-scaled.jpg
END:VEVENT
BEGIN:VEVENT
DTSTART;TZID=UTC:20240323T073000
DTEND;TZID=UTC:20240323T170000
DTSTAMP:20260425T174152
CREATED:20231107T162035Z
LAST-MODIFIED:20240217T035441Z
UID:511-1711179000-1711213200@baycountyaudubon.org
SUMMARY:Bird Walk
DESCRIPTION:Most of you have been to this large park off Hwy 98 at the beach. It has become a major birding area and is very popular with hikers and bikers. We will be walking up Baxley Homestead Trail to the large wetland\, about 1.4 miles\, but it’s flat all the way and is wheelchair accessible. We will have binoculars available if you need them. Bring hiking shoes\, snacks\, and drinks. Photographers will find that this is an excellent area to photograph birds including the Vermillion Flycatcher\, if he has returned for the fourth year. We are usually finished by 11:00 or so.
URL:https://baycountyaudubon.org/upcoming-event/bird-walk/
CATEGORIES:Field Trips
ATTACH;FMTTYPE=image/jpeg:https://baycountyaudubon.org/wp-content/uploads/2023/11/P1050627.jpg
END:VEVENT
END:VCALENDAR